BEGIN:VCALENDAR
VERSION:2.0
PRODID:-//ChamberMaster//Event Calendar 2.0//EN
METHOD:PUBLISH
X-PUBLISHED-TTL:P3D
REFRESH-INTERVAL:P3D
CALSCALE:GREGORIAN
BEGIN:VEVENT
DTSTART:20150505T130000Z
DTEND:20150505T140000Z
X-MICROSOFT-CDO-ALLDAYEVENT:FALSE
SUMMARY:Coffee Talk
DESCRIPTION:Coffee Talk "Unveil the River Trail"\n\nGuest Speaker- Malcolm Matthews-City of Kerrville
X-ALT-DESC;FMTTYPE=text/html:Coffee Talk <span style="font-size: medium\;"><span style="font-family: calibri\;">&ldquo\;Unveil the River Trail&rdquo\;</span></span><br />\n<span style="font-size: medium\;"><span style="font-family: calibri\;">Guest Speaker- Malcolm Matthews-City of Kerrville</span></span><br />\n&nbsp\;
LOCATION:Kerrville Area Chamber of Commerce\, 1700 Sidney Baker\, Ste. 100
UID:e.1327.4633
SEQUENCE:3
DTSTAMP:20260423T145328Z
URL:https://business.kerrvillechamber.biz/events/details/coffee-talk-05-05-2015-4633
END:VEVENT

END:VCALENDAR
