BEGIN:VCALENDAR
VERSION:2.0
PRODID:-//ChamberMaster//Event Calendar 2.0//EN
METHOD:PUBLISH
X-PUBLISHED-TTL:P3D
REFRESH-INTERVAL:P3D
CALSCALE:GREGORIAN
BEGIN:VEVENT
DTSTART:20151103T140000Z
DTEND:20151103T150000Z
X-MICROSOFT-CDO-ALLDAYEVENT:FALSE
SUMMARY:Coffee Talk
DESCRIPTION:Coffee Talk\, Speaker Mark Armstrong with KDT "how to write a press release"
X-ALT-DESC;FMTTYPE=text/html:Coffee Talk\, Speaker Mark Armstrong with KDT &quot\;how to write a press release&quot\;
LOCATION:Kerrville Area Chamber of Commerce\, 1700 Sidney Baker\, Ste. 100
UID:e.1327.5646
SEQUENCE:3
DTSTAMP:20260423T045949Z
URL:https://business.kerrvillechamber.biz/events/details/coffee-talk-11-03-2015-5646
END:VEVENT

END:VCALENDAR
