BEGIN:VCALENDAR
VERSION:2.0
PRODID:-//ChamberMaster//Event Calendar 2.0//EN
METHOD:PUBLISH
X-PUBLISHED-TTL:P3D
REFRESH-INTERVAL:P3D
CALSCALE:GREGORIAN
BEGIN:VEVENT
DTSTART;VALUE=DATE:20130112
DTEND;VALUE=DATE:20130113
TRANSP:TRANSPARENT
X-MICROSOFT-CDO-ALLDAYEVENT:TRUE
SUMMARY:Collin Country Presents
DESCRIPTION:Art Show. For information please call 830-367-5120\, or visit www.hcaf.com\n\n	Hill Country Youth Exhibit Center\, 3705 Hwy 27 E
X-ALT-DESC;FMTTYPE=text/html:<p>\n	Art Show. For information please call 830-367-5120\, or visit www.hcaf.com</p>\n<p>\n	Hill Country Youth Exhibit Center\, 3705 Hwy 27 E</p>\n
LOCATION:
UID:e.1327.458
SEQUENCE:3
DTSTAMP:20260420T034912Z
URL:https://business.kerrvillechamber.biz/events/details/collin-country-presents-01-12-2013-458
END:VEVENT

END:VCALENDAR
