BEGIN:VCALENDAR
VERSION:2.0
PRODID:-//ChamberMaster//Event Calendar 2.0//EN
METHOD:PUBLISH
X-PUBLISHED-TTL:P3D
REFRESH-INTERVAL:P3D
CALSCALE:GREGORIAN
BEGIN:VEVENT
DTSTART:20250816T220000Z
DTEND:20250817T020000Z
X-MICROSOFT-CDO-ALLDAYEVENT:FALSE
SUMMARY:Comanche Trace Prime Rib Night
DESCRIPTION:Prime Rib Night at Comanche Trace\n\nSaturday\, August 16th | 5pm   9pm\n\nNo Membership Needed   Everyone's Welcome!\n\nCraving a night of fantastic food and good company? Come on out for Prime Rib Night\, where tender\, slow-roasted prime rib takes center stage alongside all your favorite classic sides. Whether you're celebrating a special occasion or just want to enjoy a great meal with friends and family\, this is the perfect way to spend your Saturday evening.\n\nMenu:\n\n\n	\n	House or Caesar Salad\n	\n	\n	Slow-Roasted Prime Rib with Black Garlic Jus & Horseradish Cream\n	\n	\n	Loaded Baked Potato & Garlic Butter Green Beans\n	\n	\n	Chocolate Mousse Cake\n	\n\n\nGood food. Great company. No fuss. Just show up hungry!\n\nRSVP Required   Call 830-895-8505 to save your spot.
X-ALT-DESC;FMTTYPE=text/html:<p><strong>Prime Rib Night at Comanche Trace</strong><br />\n<strong>Saturday\, August 16th | 5pm &ndash\; 9pm</strong><br />\n<strong>No Membership Needed &ndash\; Everyone&rsquo\;s Welcome!</strong></p>\n\n<p>Craving a night of fantastic food and good company? Come on out for Prime Rib Night\, where tender\, slow-roasted prime rib takes center stage alongside all your favorite classic sides. Whether you&rsquo\;re celebrating a special occasion or just want to enjoy a great meal with friends and family\, this is the perfect way to spend your Saturday evening.</p>\n\n<p><strong>Menu:</strong></p>\n\n<ul>\n	<li>\n	<p>House or Caesar Salad</p>\n	</li>\n	<li>\n	<p>Slow-Roasted Prime Rib with Black Garlic Jus &amp\; Horseradish Cream</p>\n	</li>\n	<li>\n	<p>Loaded Baked Potato &amp\; Garlic Butter Green Beans</p>\n	</li>\n	<li>\n	<p>Chocolate Mousse Cake</p>\n	</li>\n</ul>\n\n<p>Good food. Great company. No fuss. Just show up hungry!</p>\n\n<p><strong>RSVP Required</strong> &mdash\; Call <strong>830-895-8505</strong> to save your spot.</p>\n
LOCATION:Pinnacle Grill at Comanche Trace 3074 Bandera Hwy\, Kerrville\, TX 78028
UID:e.1327.29212
SEQUENCE:3
DTSTAMP:20260423T213210Z
URL:https://business.kerrvillechamber.biz/events/details/comanche-trace-prime-rib-night-29212
END:VEVENT

END:VCALENDAR
