BEGIN:VCALENDAR
VERSION:2.0
PRODID:-//ChamberMaster//Event Calendar 2.0//EN
METHOD:PUBLISH
X-PUBLISHED-TTL:P3D
REFRESH-INTERVAL:P3D
CALSCALE:GREGORIAN
BEGIN:VEVENT
DTSTART:20251126T133000Z
DTEND:20251126T160000Z
X-MICROSOFT-CDO-ALLDAYEVENT:FALSE
SUMMARY:Comanche Trace Turkey Trot
DESCRIPTION:Ready to trot before you gobble? Join us for the Comanche Trace Turkey Trot 5K on Tuesday\, November 26th!\n\nWe're looking for both runners and volunteers to help make this festive fun run a success. Whether you're racing or cheering\, come be part of the tradition!\n\nCheck out our social media for more information  and get those running shoes ready!
X-ALT-DESC;FMTTYPE=text/html:<p>Ready to trot before you gobble? Join us for the <strong>Comanche Trace Turkey Trot 5K</strong> on <strong>Tuesday\, November 26th</strong>!</p>\n\n<p>We&rsquo\;re looking for both <strong>runners</strong> and <strong>volunteers</strong> to help make this festive fun run a success. Whether you&#39\;re racing or cheering\, come be part of the tradition!</p>\n\n<p>Check out our social media for more information &mdash\;and get those running shoes ready!</p>\n
LOCATION:Comanche Trace Taphouse - 2801 Comanche Trace Drive\, Kerrville\, TX 78028
UID:e.1327.29177
SEQUENCE:3
DTSTAMP:20260423T164401Z
URL:https://business.kerrvillechamber.biz/events/details/comanche-trace-turkey-trot-29177
END:VEVENT

END:VCALENDAR
