BEGIN:VCALENDAR
VERSION:2.0
PRODID:-//ChamberMaster//Event Calendar 2.0//EN
METHOD:PUBLISH
X-PUBLISHED-TTL:P3D
REFRESH-INTERVAL:P3D
CALSCALE:GREGORIAN
BEGIN:VEVENT
DTSTART:20260425T140000Z
DTEND:20260425T200000Z
X-MICROSOFT-CDO-ALLDAYEVENT:FALSE
SUMMARY:Community Garage Sale
DESCRIPTION:Our Annual Community Garage Sale is Saturday\, April 25th!\n\n9am-3pm at Unity of the Hill Country\, 1016 Jefferson St\, Kerrville\n\nArt\, Home Decor\, Electronics\, Toys\, Books & More!\n\nWe are also accepting donations this Monday-Thursday during office hours (10am-2pm.)\n\n(Please no clothing or personal hygeine items)
X-ALT-DESC;FMTTYPE=text/html:<span style="font-family:segoe ui historic\,segoe ui\,helvetica\,arial\,sans-serif\; font-size:15px">Our Annual Community Garage Sale is Saturday\, April 25th!</span><br />\n<span style="font-family:segoe ui historic\,segoe ui\,helvetica\,arial\,sans-serif\; font-size:15px">9am-3pm at Unity of the Hill Country\, 1016 Jefferson St\, Kerrville</span><br />\n<span style="font-family:segoe ui historic\,segoe ui\,helvetica\,arial\,sans-serif\; font-size:15px">Art\, Home Decor\, Electronics\, Toys\, Books &amp\; More!</span><br />\n<span style="font-family:segoe ui historic\,segoe ui\,helvetica\,arial\,sans-serif\; font-size:15px">We are also accepting donations this Monday-Thursday during office hours (10am-2pm.)</span><br />\n<span style="font-family:segoe ui historic\,segoe ui\,helvetica\,arial\,sans-serif\; font-size:15px">(Please no clothing or personal hygeine items)</span>
LOCATION:Unity of the Hill Country 1016 Jefferson St\, Kerrville TX
UID:e.1327.29305
SEQUENCE:3
DTSTAMP:20260422T222039Z
URL:https://business.kerrvillechamber.biz/events/details/community-garage-sale-04-25-2026-29305
END:VEVENT

END:VCALENDAR
