BEGIN:VCALENDAR
VERSION:2.0
PRODID:-//ChamberMaster//Event Calendar 2.0//EN
METHOD:PUBLISH
X-PUBLISHED-TTL:P3D
REFRESH-INTERVAL:P3D
CALSCALE:GREGORIAN
BEGIN:VEVENT
DTSTART:20130420T230000Z
DTEND:20130421T010000Z
X-MICROSOFT-CDO-ALLDAYEVENT:FALSE
SUMMARY:Community Homecoming Celebration for Johnny Manziel
DESCRIPTION:Kerrville Independent School District along with the Tivy Athletic Booster Club and the Kerrville Tivy Athletic Hall of Fame\, will host a homecoming celebration honoring Kerrville's hometown Heisman winner Johnny Manziel\, on Saturday\, April 20\, 2013 at 6:00 p.m. at Antler Stadium\, 1310 Sidney Baker. Gates will open at 5:00 p.m. Carter Blackburn\, a Tivy graduate and now ESPN play-by-play announcer and commentator\, will emcee the event. The event is free and open to the public. Kerrville ISD is proud to recognize H-E-B and the Hal & Charlie Peterson Foundation as event sponsors\, with thanks to Centennial Bank for ongoing support of the Kerrville Tivy Athletic Hall of Fame. For the full press release\, click here.
X-ALT-DESC;FMTTYPE=text/html:<h2>\n	<span style="font-family:times new roman\;"><span style="color: rgb(0\, 0\, 0)\; font-weight: normal\; line-height: 1.5em\;">Kerrville Independent School District along with the Tivy Athletic Booster Club and the Kerrville Tivy Athletic Hall of Fame\, will host a homecoming celebration honoring Kerrville&rsquo\;s hometown Heisman winner Johnny Manziel\, on Saturday\, April 20\, 2013 at 6:00 p.m. at Antler Stadium\, 1310 Sidney Baker. Gates will open at 5:00 p.m. Carter Blackburn\, a Tivy graduate and now ESPN play-by-play announcer and commentator\, will emcee the event.</span><span style="color: rgb(0\, 0\, 0)\; font-weight: normal\; line-height: 1.5em\;">&nbsp\;The event is free and open to the public.&nbsp\;</span><span style="color: rgb(0\, 0\, 0)\; font-weight: normal\; line-height: 1.5em\;">Kerrville ISD is proud to recognize H-E-B and the Hal &amp\; Charlie Peterson Foundation as event sponsors\, with thanks to Centennial Bank for ongoing support of the Kerrville Tivy Athletic Hall of Fame. For the full press release\, click </span><a href="http://kerrvilleisd.net/files/Manziel_Community_Event.pdf" style="font-size: 14px\; font-weight: normal\; line-height: 1.5em\;" target="_blank">here</a><span style="color: rgb(0\, 0\, 0)\; font-weight: normal\; line-height: 1.5em\;">.</span></span></h2>\n
LOCATION:Antler Stadium
UID:e.1327.607
SEQUENCE:3
DTSTAMP:20260419T225129Z
URL:https://business.kerrvillechamber.biz/events/details/community-homecoming-celebration-for-johnny-manziel-04-20-2013-607
END:VEVENT

END:VCALENDAR
