BEGIN:VCALENDAR
VERSION:2.0
PRODID:-//ChamberMaster//Event Calendar 2.0//EN
METHOD:PUBLISH
X-PUBLISHED-TTL:P3D
REFRESH-INTERVAL:P3D
CALSCALE:GREGORIAN
BEGIN:VEVENT
DTSTART:20141113T230000Z
DTEND:20141114T020000Z
X-MICROSOFT-CDO-ALLDAYEVENT:FALSE
SUMMARY:Cricket's Ladies Nite Out
DESCRIPTION:Grab your girlfriends\, enjoy the shopping and special pricing with extended hours\, special offers\, sales and goodies.
X-ALT-DESC;FMTTYPE=text/html:Grab your girlfriends\, enjoy the shopping and special pricing with extended hours\, special offers\, sales and goodies.
LOCATION:707 Water Street\, Kerrville\, Texas
UID:e.1327.3836
SEQUENCE:3
DTSTAMP:20260424T044255Z
URL:https://business.kerrvillechamber.biz/events/details/cricket-s-ladies-nite-out-11-13-2014-3836
END:VEVENT

END:VCALENDAR
