BEGIN:VCALENDAR
VERSION:2.0
PRODID:-//ChamberMaster//Event Calendar 2.0//EN
METHOD:PUBLISH
X-PUBLISHED-TTL:P3D
REFRESH-INTERVAL:P3D
CALSCALE:GREGORIAN
BEGIN:VEVENT
DTSTART:20130326T140000Z
DTEND:20130326T153000Z
X-MICROSOFT-CDO-ALLDAYEVENT:FALSE
SUMMARY:Customer Service Training
DESCRIPTION:Customer Service Seminar.  Led by Patrice McElfresh\, Senior Business Advisor\, Small Business Development Center.
X-ALT-DESC;FMTTYPE=text/html:Customer Service Seminar.&nbsp\; Led by Patrice McElfresh\, Senior Business Advisor\, Small Business Development Center.
LOCATION:Kerrville Area Chamber of Commerce
UID:e.1327.684
SEQUENCE:3
DTSTAMP:20260420T001850Z
URL:https://business.kerrvillechamber.biz/events/details/customer-service-training-03-26-2013-684
END:VEVENT

END:VCALENDAR
