BEGIN:VCALENDAR
VERSION:2.0
PRODID:-//ChamberMaster//Event Calendar 2.0//EN
METHOD:PUBLISH
X-PUBLISHED-TTL:P3D
REFRESH-INTERVAL:P3D
CALSCALE:GREGORIAN
BEGIN:VEVENT
DTSTART:20130329T230000Z
DTEND:20130330T030000Z
X-MICROSOFT-CDO-ALLDAYEVENT:FALSE
SUMMARY:Dinner Show with Rita Hosking
DESCRIPTION:Dinner\, cash\, beer & wine bar\, music\, dancing. Reserved seating call for reservations. You won't want to miss this one! 800-568-6458 www.buckhornlake.com\n\n	Buckhorn Lake Resort\, 2885 Goat Creek Rd.
X-ALT-DESC;FMTTYPE=text/html:<p>\n	Dinner\, cash\, beer &amp\; wine bar\, music\, dancing. Reserved seating&ndash\;call for reservations. You won&rsquo\;t want to miss this one! 800-568-6458 <a class="external" href="http://www.buckhornlake.com/" target="_blank">www.buckhornlake.com</a></p>\n<p>\n	Buckhorn Lake Resort\, 2885 Goat Creek Rd.</p>\n
LOCATION:
UID:e.1327.478
SEQUENCE:3
DTSTAMP:20260420T021127Z
URL:https://business.kerrvillechamber.biz/events/details/dinner-show-with-rita-hosking-03-29-2013-478
END:VEVENT

END:VCALENDAR
