BEGIN:VCALENDAR
VERSION:2.0
PRODID:-//ChamberMaster//Event Calendar 2.0//EN
METHOD:PUBLISH
X-PUBLISHED-TTL:P3D
REFRESH-INTERVAL:P3D
CALSCALE:GREGORIAN
BEGIN:VEVENT
DTSTART:20130405T130000Z
DTEND:20130407T200000Z
X-MICROSOFT-CDO-ALLDAYEVENT:FALSE
SUMMARY:Dog Agility Competition
DESCRIPTION:Watch dogs work and compete as handlers direct them.
X-ALT-DESC;FMTTYPE=text/html:Watch dogs work and compete as handlers direct them. 
LOCATION:Hill Country Youth Exhibition Center 5001 San Antonio Hwy
UID:e.1327.621
SEQUENCE:3
DTSTAMP:20260419T231244Z
URL:https://business.kerrvillechamber.biz/events/details/dog-agility-competition-04-05-2013-621
END:VEVENT

END:VCALENDAR
