BEGIN:VCALENDAR
VERSION:2.0
PRODID:-//ChamberMaster//Event Calendar 2.0//EN
METHOD:PUBLISH
X-PUBLISHED-TTL:P3D
REFRESH-INTERVAL:P3D
CALSCALE:GREGORIAN
BEGIN:VEVENT
DTSTART;VALUE=DATE:20130329
DTEND;VALUE=DATE:20130401
TRANSP:TRANSPARENT
X-MICROSOFT-CDO-ALLDAYEVENT:TRUE
SUMMARY:Easter Hill Country Tour
DESCRIPTION:Three days of supported bicycle rides in the Hill Country. Ride starts at Schreiner University.\n\n	Schreiner University 2100 Memorial Blvd.\, Kerrville
X-ALT-DESC;FMTTYPE=text/html:<p>\n	Three days of supported bicycle rides in the Hill Country. Ride starts at Schreiner University.</p>\n<p>\n	Schreiner University 2100 Memorial Blvd.\, Kerrville</p>\n
LOCATION:
UID:e.1327.477
SEQUENCE:3
DTSTAMP:20260420T002916Z
URL:https://business.kerrvillechamber.biz/events/details/easter-hill-country-tour-03-29-2013-477
END:VEVENT

END:VCALENDAR
