BEGIN:VCALENDAR
VERSION:2.0
PRODID:-//ChamberMaster//Event Calendar 2.0//EN
METHOD:PUBLISH
X-PUBLISHED-TTL:P3D
REFRESH-INTERVAL:P3D
CALSCALE:GREGORIAN
BEGIN:VEVENT
DTSTART;VALUE=DATE:20130323
DTEND;VALUE=DATE:20130331
TRANSP:TRANSPARENT
X-MICROSOFT-CDO-ALLDAYEVENT:TRUE
SUMMARY:EGGceptional Easter Hunt
DESCRIPTION:HOP on in to participate in our week long Easter Egg Hunt. From March 23rd to March 30th with every purchase you make you will be able to hunt for an Easter Egg. Each egg will contain FUN gifts for you to enjoy.
X-ALT-DESC;FMTTYPE=text/html:HOP on in to participate in our week long Easter Egg Hunt. From March 23rd to March 30th with every purchase you make you will be able to hunt for an Easter Egg. Each egg will contain FUN gifts for you to enjoy.
LOCATION:RA Nursery 7373 Hwy 27 Comfort\, TX 78013
UID:e.1327.615
SEQUENCE:3
DTSTAMP:20260420T001840Z
URL:https://business.kerrvillechamber.biz/events/details/eggceptional-easter-hunt-03-23-2013-615
END:VEVENT

END:VCALENDAR
