BEGIN:VCALENDAR
VERSION:2.0
PRODID:-//ChamberMaster//Event Calendar 2.0//EN
METHOD:PUBLISH
X-PUBLISHED-TTL:P3D
REFRESH-INTERVAL:P3D
CALSCALE:GREGORIAN
BEGIN:VEVENT
DTSTART:20130310T170000Z
DTEND:20130310T220000Z
X-MICROSOFT-CDO-ALLDAYEVENT:FALSE
SUMMARY:Eternal Threads Weaving Hope And Justice
DESCRIPTION:Buttons and bows Bazaar  is pleased to host an "Eternal Threads" Gathering Sale at First Christian Church.  Beautiful handcrafted items by skilled artisans from India\, Afghanistan\, Nepal\, Madagascar\, Thialand\, Bulgaria\, Ghana\, Kenya\, Mongolia\, Nigeria\, Peru\, Philippines and Uganda. www.EternalThreads.org
X-ALT-DESC;FMTTYPE=text/html:Buttons and bows Bazaar&nbsp\; is pleased to host an &quot\;Eternal Threads&quot\; Gathering Sale at First Christian Church.&nbsp\; Beautiful handcrafted items by skilled artisans from India\, Afghanistan\, Nepal\, Madagascar\, Thialand\, Bulgaria\, Ghana\, Kenya\, Mongolia\, Nigeria\, Peru\, Philippines and Uganda. <a href="http://www.EternalThreads.org">www.EternalThreads.org</a> 
LOCATION:First Christian Church at 1900 Goat Creek Pkwy. Kerrville\, Texas
UID:e.1327.641
SEQUENCE:3
DTSTAMP:20260420T021126Z
URL:https://business.kerrvillechamber.biz/events/details/eternal-threads-weaving-hope-and-justice-03-10-2013-641
END:VEVENT

END:VCALENDAR
