BEGIN:VCALENDAR
VERSION:2.0
PRODID:-//ChamberMaster//Event Calendar 2.0//EN
METHOD:PUBLISH
X-PUBLISHED-TTL:P3D
REFRESH-INTERVAL:P3D
CALSCALE:GREGORIAN
BEGIN:VEVENT
DTSTART:20130419T230000Z
DTEND:20130420T020000Z
X-MICROSOFT-CDO-ALLDAYEVENT:FALSE
SUMMARY:Ethan Terry Solo
DESCRIPTION:Ethan Terry on the 1011's Terrace
X-ALT-DESC;FMTTYPE=text/html:Ethan Terry on the 1011&#39\;s Terrace&nbsp\;<br />\n<br />\n
LOCATION:1011 Bistro on the Guadalupe\, formerly the River's Edge Tuscan Grill
UID:e.1327.713
SEQUENCE:3
DTSTAMP:20260419T224832Z
URL:https://business.kerrvillechamber.biz/events/details/ethan-terry-solo-04-19-2013-713
END:VEVENT

END:VCALENDAR
