BEGIN:VCALENDAR
VERSION:2.0
PRODID:-//ChamberMaster//Event Calendar 2.0//EN
METHOD:PUBLISH
X-PUBLISHED-TTL:P3D
REFRESH-INTERVAL:P3D
CALSCALE:GREGORIAN
BEGIN:VEVENT
DTSTART:20130710T000000Z
DTEND:20130710T010000Z
X-MICROSOFT-CDO-ALLDAYEVENT:FALSE
SUMMARY:Family Nature Night BATS
DESCRIPTION:Old Tunnel State Park's Nyta Brown will talk about bats and their habits.
X-ALT-DESC;FMTTYPE=text/html:Old Tunnel State Park&#39\;s Nyta Brown will talk about bats and their habits.
LOCATION:Riverside Nature Center\, 150 Francisco Lemos St.
UID:e.1327.952
SEQUENCE:3
DTSTAMP:20260419T182022Z
URL:https://business.kerrvillechamber.biz/events/details/family-nature-night-bats-07-09-2013-952
END:VEVENT

END:VCALENDAR
