BEGIN:VCALENDAR
VERSION:2.0
PRODID:-//ChamberMaster//Event Calendar 2.0//EN
METHOD:PUBLISH
X-PUBLISHED-TTL:P3D
REFRESH-INTERVAL:P3D
CALSCALE:GREGORIAN
BEGIN:VEVENT
DTSTART:20130711T153000Z
DTEND:20130711T160000Z
X-MICROSOFT-CDO-ALLDAYEVENT:FALSE
SUMMARY:Find Your Youth Ribbon Cutting
DESCRIPTION:Find Your Youth Ribbon Cutting\n\nHeld at the Chamber\n\nThursday\, July 11\, 10:30 am
X-ALT-DESC;FMTTYPE=text/html:Find Your Youth Ribbon Cutting<br />\nHeld at the Chamber<br />\nThursday\, July 11\, 10:30 am
LOCATION:
UID:e.1327.986
SEQUENCE:3
DTSTAMP:20260419T195301Z
URL:https://business.kerrvillechamber.biz/events/details/find-your-youth-ribbon-cutting-07-11-2013-986
END:VEVENT

END:VCALENDAR
