BEGIN:VCALENDAR
VERSION:2.0
PRODID:-//ChamberMaster//Event Calendar 2.0//EN
METHOD:PUBLISH
X-PUBLISHED-TTL:P3D
REFRESH-INTERVAL:P3D
CALSCALE:GREGORIAN
BEGIN:VEVENT
DTSTART:20130607T230000Z
DTEND:20130608T003000Z
X-MICROSOFT-CDO-ALLDAYEVENT:FALSE
SUMMARY:First Friday WineShare
DESCRIPTION:Friday\, June 7th\n\nHost: Centennial Bank\, 1145 Junction Hwy\n\n\n\n\n	\n		First Friday of each month (easy to schedule!).\n	\n		From 6:00 p.m. to 7:30 p.m. Hosts should plan to arrive early and stay late.\n	\n		Please bring no more than one bottle per every two people. Singles may feel free to bring a bottle every other month. (We don't want to drink too much.)\n	\n		Try to find the themed bottle of the month (if you can't\, just default to your favorite).\n	\n		Finger foods are always welcome.\n	\n		Bring your own wine glass   this could be a conversation starter itself.
X-ALT-DESC;FMTTYPE=text/html:<font size="3"><u>Friday\, June 7th<br />\nHost: Centennial Bank\, 1145 Junction Hwy</u></font><br />\n<br />\n<ol style="color: rgb(0\, 0\, 0)\; font-family: Verdana\; font-size: 13px\;">\n	<li>\n		First Friday of each month (easy to schedule!).</li>\n	<li>\n		From 6:00 p.m. to 7:30 p.m. Hosts should plan to arrive early and stay late.</li>\n	<li>\n		Please bring no more than one bottle per every two people. Singles may feel free to bring a bottle every other month. (We don&rsquo\;t want to drink too much.)</li>\n	<li>\n		Try to find the themed bottle of the month (if you can&rsquo\;t\, just default to your favorite).</li>\n	<li>\n		Finger foods are always welcome.</li>\n	<li>\n		<span style="text-decoration: underline\;">Bring your own wine glass</span>&nbsp\;&ndash\; this could be a conversation starter itself.</li>\n</ol>\n
LOCATION:
UID:e.1327.965
SEQUENCE:3
DTSTAMP:20260419T194838Z
URL:https://business.kerrvillechamber.biz/events/details/first-friday-wineshare-06-07-2013-965
END:VEVENT

END:VCALENDAR
