BEGIN:VCALENDAR
VERSION:2.0
PRODID:-//ChamberMaster//Event Calendar 2.0//EN
METHOD:PUBLISH
X-PUBLISHED-TTL:P3D
REFRESH-INTERVAL:P3D
CALSCALE:GREGORIAN
BEGIN:VEVENT
DTSTART:20130324T190000Z
DTEND:20130324T200000Z
X-MICROSOFT-CDO-ALLDAYEVENT:FALSE
SUMMARY:Flash Mob at River Hills Mall
DESCRIPTION:Hometown Heroe's invites you to come and be a part of the Harlem Shake Flash Mob.  This is your chance to shine and be filmed on YouTube! Free to attend!
X-ALT-DESC;FMTTYPE=text/html:Hometown Heroe&#39\;s invites you to come and be a part of the Harlem Shake Flash Mob.&nbsp\; This is your chance to shine and be filmed on YouTube! Free to attend!
LOCATION:Riverhill Mall Bealls Entrance
UID:e.1327.678
SEQUENCE:3
DTSTAMP:20260420T002012Z
URL:https://business.kerrvillechamber.biz/events/details/flash-mob-at-river-hills-mall-03-24-2013-678
END:VEVENT

END:VCALENDAR
