BEGIN:VCALENDAR
VERSION:2.0
PRODID:-//ChamberMaster//Event Calendar 2.0//EN
METHOD:PUBLISH
X-PUBLISHED-TTL:P3D
REFRESH-INTERVAL:P3D
CALSCALE:GREGORIAN
BEGIN:VEVENT
DTSTART:20130427T170000Z
DTEND:20130427T220000Z
X-MICROSOFT-CDO-ALLDAYEVENT:FALSE
SUMMARY:Gardens & Vines 2013
DESCRIPTION:Join us for our Fifth Annual Wine Tasting in the Garden. Celebrate the beauty of Spring at RA Nursery while enjoying complimentary hot dogs\, drinks\, wine and music.\n\n\n\nKeep an eye out for amazing sales and giveaways on the 2 weeks leading up to April 27th. We will also be drawing incredible prizes on the day of the event. Keep posted for more updates.
X-ALT-DESC;FMTTYPE=text/html:Join us for our Fifth Annual Wine Tasting in the Garden. Celebrate the beauty of Spring at RA Nursery while enjoying complimentary hot dogs\, drinks\, wine and music.<br />\n<br />\nKeep an eye out for amazing sales and giveaways on the 2 weeks leading up to April 27th. We will also be drawing incredible prizes on the day of the event. Keep posted for more updates.
LOCATION:RA Nursery 7373 Hwy 27 Comfort\, TX 78013
UID:e.1327.616
SEQUENCE:3
DTSTAMP:20260419T224623Z
URL:https://business.kerrvillechamber.biz/events/details/gardens-vines-2013-04-27-2013-616
END:VEVENT

END:VCALENDAR
