BEGIN:VCALENDAR
VERSION:2.0
PRODID:-//ChamberMaster//Event Calendar 2.0//EN
METHOD:PUBLISH
X-PUBLISHED-TTL:P3D
REFRESH-INTERVAL:P3D
CALSCALE:GREGORIAN
BEGIN:VEVENT
DTSTART:20131112T173000Z
DTEND:20131112T184500Z
X-MICROSOFT-CDO-ALLDAYEVENT:FALSE
SUMMARY:Geo-caching with Dave Rogers for 2nd Tuesday Brown Bag Lunch & Learn
DESCRIPTION:?Geo-caching with Dave Rogers.? Riverside Nature Center has joined the craze that is sweeping the nation\, the ultimate scavenger hunt. This one connects for H-E-B and stars Hank the Cowdog. Go home and show your kids and grandkids just how savvy you are!
X-ALT-DESC;FMTTYPE=text/html:?Geo-caching with Dave Rogers.? Riverside Nature Center has joined the craze that is sweeping the nation\, the ultimate scavenger hunt. This one connects for H-E-B and stars Hank the Cowdog. Go home and show your kids and grandkids just how savvy you are!
LOCATION:Riverside Nature Center\, 150 Francisco Lemos St.\, Kerrville
UID:e.1327.1571
SEQUENCE:3
DTSTAMP:20260419T132753Z
URL:https://business.kerrvillechamber.biz/events/details/geo-caching-with-dave-rogers-for-2nd-tuesday-brown-bag-lunch-learn-11-12-2013-1571
END:VEVENT

END:VCALENDAR
