BEGIN:VCALENDAR
VERSION:2.0
PRODID:-//ChamberMaster//Event Calendar 2.0//EN
METHOD:PUBLISH
X-PUBLISHED-TTL:P3D
REFRESH-INTERVAL:P3D
CALSCALE:GREGORIAN
BEGIN:VEVENT
DTSTART:20150730T190000Z
DTEND:20150730T230000Z
X-MICROSOFT-CDO-ALLDAYEVENT:FALSE
SUMMARY:Grand Opening & Ribbon Cutting Whitetail Candle Co.
DESCRIPTION:Join us for our Grand Opening and Ribbon Cutting.  Enjoy complimentary wine & cheese and smell the wonderful candle scents.  Buy 3 Get 1 Free (see store for details).
X-ALT-DESC;FMTTYPE=text/html:Join us for our Grand Opening and Ribbon Cutting.&nbsp\; Enjoy complimentary wine&nbsp\;&amp\; cheese and&nbsp\;smell the wonderful candle scents.&nbsp\; Buy 3 Get 1 Free (see store for details).
LOCATION:138 Old Ingram Loop\, Ingram\, Texas
UID:e.1327.5372
SEQUENCE:3
DTSTAMP:20260423T111231Z
URL:https://business.kerrvillechamber.biz/events/details/grand-opening-ribbon-cutting-whitetail-candle-co-07-30-2015-5372
END:VEVENT

END:VCALENDAR
