BEGIN:VCALENDAR
VERSION:2.0
PRODID:-//ChamberMaster//Event Calendar 2.0//EN
METHOD:PUBLISH
X-PUBLISHED-TTL:P3D
REFRESH-INTERVAL:P3D
CALSCALE:GREGORIAN
BEGIN:VEVENT
DTSTART:20130228T230000Z
DTEND:20130301T030000Z
X-MICROSOFT-CDO-ALLDAYEVENT:FALSE
SUMMARY:Grape Juice Gives Back benefiting the Hill Country Charity Ball Association and the Hill Country District Junior Livestock Show Association
DESCRIPTION:Click the link below to view the event flier.\n\n	http://cloud.chambermaster.com/userfiles/UserFiles/chambers/1327/File/GrapeJuiceGivesBack02282013.pdf
X-ALT-DESC;FMTTYPE=text/html:<p>\n	Click the link below to view the event flier.<br />\n	<a href="http://cloud.chambermaster.com/userfiles/UserFiles/chambers/1327/File/GrapeJuiceGivesBack02282013.pdf">http://cloud.chambermaster.com/userfiles/UserFiles/chambers/1327/File/GrapeJuiceGivesBack02282013.pdf</a></p>\n
LOCATION:
UID:e.1327.640
SEQUENCE:3
DTSTAMP:20260420T021902Z
URL:https://business.kerrvillechamber.biz/events/details/grape-juice-gives-back-benefiting-the-hill-country-charity-ball-association-and-the-hill-country-district-junior-livestock-show-association-02-28-2013-640
END:VEVENT

END:VCALENDAR
