BEGIN:VCALENDAR
VERSION:2.0
PRODID:-//ChamberMaster//Event Calendar 2.0//EN
METHOD:PUBLISH
X-PUBLISHED-TTL:P3D
REFRESH-INTERVAL:P3D
CALSCALE:GREGORIAN
BEGIN:VEVENT
DTSTART:20130722T153000Z
DTEND:20130722T160000Z
X-MICROSOFT-CDO-ALLDAYEVENT:FALSE
SUMMARY:Groundbreaking for Security State Bank Ingram Location
DESCRIPTION:Groundbreaking for Security State Bank Ingram Location\n\n3241 Junction Hwy (next door to Double L Ranch & Wildlife Feed)\n\nMonday\, July 22nd\, 10:30 am
X-ALT-DESC;FMTTYPE=text/html:<span style="font-size:14px\;"><span style="font-family:times new roman\;">Groundbreaking&nbsp\;for Security State Bank Ingram Location<br />\n3241 Junction Hwy (next door to Double L Ranch &amp\; Wildlife Feed)<br />\nMonday\, July 22<sup>nd</sup><sup>\,</sup>&nbsp\;10:30 am</span></span><br />\n
LOCATION:
UID:e.1327.1024
SEQUENCE:3
DTSTAMP:20260419T181546Z
URL:https://business.kerrvillechamber.biz/events/details/groundbreaking-for-security-state-bank-ingram-location-07-22-2013-1024
END:VEVENT

END:VCALENDAR
