BEGIN:VCALENDAR
VERSION:2.0
PRODID:-//ChamberMaster//Event Calendar 2.0//EN
METHOD:PUBLISH
X-PUBLISHED-TTL:P3D
REFRESH-INTERVAL:P3D
CALSCALE:GREGORIAN
BEGIN:VEVENT
DTSTART;VALUE=DATE:20131031
DTEND;VALUE=DATE:20131101
TRANSP:TRANSPARENT
X-MICROSOFT-CDO-ALLDAYEVENT:TRUE
SUMMARY:Halloween & Art Showing Event with Arte de mi Familia & The Sosa's
DESCRIPTION:Encore 104.9 FMLP presents an art showing event with  Arte de Mi Familia & The Sosa's at Luna Mesa Gallery & Social Spot\n\n**Come dressed as one of your favorite Artist's dead or alive\, or just come dressed or not\n\n\n\nGallery Artists\n\nLionel Sosa- Kathy Sosa- Anna Sosa- Cristina Sosa Noriaga- Blanca Sosa- James Sosa-Vincent Sosa- Vincent Perales- Megan Sosa- Lilliana Sosa    \n\n\n\nSmooth Jazz with Penny Lane and More!\n\n\n\nFor more information\, please call Blanca @ 210-452-3173 or 830-895-5796
X-ALT-DESC;FMTTYPE=text/html:<strong>Encore 104.9 FMLP&nbsp\;presents an art showing event with &nbsp\;Arte de Mi Familia&nbsp\;&amp\; The Sosa&#39\;s at Luna Mesa Gallery &amp\; Social Spot</strong><br />\n**Come dressed as one of your favorite Artist&#39\;s dead or alive\, or just come dressed or not<br />\n<br />\n<strong>Gallery Artists</strong><br />\nLionel Sosa- Kathy Sosa- Anna Sosa- Cristina Sosa Noriaga- Blanca Sosa- James Sosa-Vincent Sosa- Vincent Perales- Megan Sosa- Lilliana Sosa&nbsp\;&nbsp\;&nbsp\;&nbsp\;<br />\n<br />\nSmooth Jazz with Penny Lane and More!<br />\n<br />\nFor more information\, please call Blanca @ 210-452-3173 or 830-895-5796<br />\n<br />\n<br />\n
LOCATION:Luna Mesa Gallery & Social Spot 1400 Water St.\, Kerrville\, TX 830-688-3151
UID:e.1327.1574
SEQUENCE:3
DTSTAMP:20260419T152129Z
URL:https://business.kerrvillechamber.biz/events/details/halloween-art-showing-event-with-arte-de-mi-familia-the-sosa-s-10-31-2013-1574
END:VEVENT

END:VCALENDAR
