BEGIN:VCALENDAR
VERSION:2.0
PRODID:-//ChamberMaster//Event Calendar 2.0//EN
METHOD:PUBLISH
X-PUBLISHED-TTL:P3D
REFRESH-INTERVAL:P3D
CALSCALE:GREGORIAN
BEGIN:VEVENT
DTSTART:20130811T200000Z
DTEND:20130811T220000Z
X-MICROSOFT-CDO-ALLDAYEVENT:FALSE
SUMMARY:Happy Hour at Kerrville Hills Winery
DESCRIPTION:Enjoy Happy Sunday at the winery:  1/2 off glass of wine or Sangria every Sunday 3-5 pm!
X-ALT-DESC;FMTTYPE=text/html:<span style="color:black\;"><span style="font-family:arial\,sans-serif\;"><span style="font-size:12.0pt\;">Enjoy Happy Sunday at the winery:&nbsp\; 1/2 off glass of wine or Sangria every Sunday 3-5 pm!</span></span></span>
LOCATION:3600 Fredericksburg Kerrville\, TX 2.3 miles north of I-10 on Hwy 16
UID:e.1327.1036
SEQUENCE:3
DTSTAMP:20260419T165203Z
URL:https://business.kerrvillechamber.biz/events/details/happy-hour-at-kerrville-hills-winery-08-11-2013-1036
END:VEVENT

END:VCALENDAR
