BEGIN:VCALENDAR
VERSION:2.0
PRODID:-//ChamberMaster//Event Calendar 2.0//EN
METHOD:PUBLISH
X-PUBLISHED-TTL:P3D
REFRESH-INTERVAL:P3D
CALSCALE:GREGORIAN
BEGIN:VEVENT
DTSTART:20130524T140000Z
DTEND:20130611T210000Z
X-MICROSOFT-CDO-ALLDAYEVENT:FALSE
SUMMARY:Hard Ware-National Ceramics Exhibit
DESCRIPTION:Hard Ware-National Ceramics Exhibit
X-ALT-DESC;FMTTYPE=text/html:Hard Ware-National Ceramics Exhibit
LOCATION:The Gallery at the Point\, Hwy. 39\, Ingram
UID:e.1327.931
SEQUENCE:3
DTSTAMP:20260419T200514Z
URL:https://business.kerrvillechamber.biz/events/details/hard-ware-national-ceramics-exhibit-05-24-2013-931
END:VEVENT

END:VCALENDAR
