BEGIN:VCALENDAR
VERSION:2.0
PRODID:-//ChamberMaster//Event Calendar 2.0//EN
METHOD:PUBLISH
X-PUBLISHED-TTL:P3D
REFRESH-INTERVAL:P3D
CALSCALE:GREGORIAN
BEGIN:VEVENT
DTSTART:20150116T160000Z
DTEND:20150116T163000Z
X-MICROSOFT-CDO-ALLDAYEVENT:FALSE
SUMMARY:HCYEC Event Hall Ribbon Cutting
DESCRIPTION:HCYEC Event Hall Ribbon Cutting
X-ALT-DESC;FMTTYPE=text/html:HCYEC Event Hall Ribbon Cutting
LOCATION:3805 Hwy. 27
UID:e.1327.4341
SEQUENCE:3
DTSTAMP:20260424T013451Z
URL:https://business.kerrvillechamber.biz/events/details/hcyec-event-hall-ribbon-cutting-01-16-2015-4341
END:VEVENT

END:VCALENDAR
