BEGIN:VCALENDAR
VERSION:2.0
PRODID:-//ChamberMaster//Event Calendar 2.0//EN
METHOD:PUBLISH
X-PUBLISHED-TTL:P3D
REFRESH-INTERVAL:P3D
CALSCALE:GREGORIAN
BEGIN:VEVENT
DTSTART:20151104T233000Z
DTEND:20151105T013000Z
X-MICROSOFT-CDO-ALLDAYEVENT:FALSE
SUMMARY:HCYP Meeting and Social
DESCRIPTION:Come mix\, mingle and learn about the exciting opportunities HCYP has to offer! Not a member yet? Not a problem! Bring a friend and potential members are always welcome! Drinks\, appetizers and dining will be available for ordering. Wednesday\, November 4th 5:30p - 7:30p Held at Azul Lounge\, 202 Earl Garrett\, Kerrville\, TX
X-ALT-DESC;FMTTYPE=text/html:Come mix\, mingle and learn about the exciting opportunities HCYP has to offer! Not a member yet? Not a problem! Bring a friend and potential members are always welcome! Drinks\, appetizers and dining will be available for ordering. Wednesday\, November 4th 5:30p - 7:30p Held at Azul Lounge\, 202 Earl Garrett\, Kerrville\, TX
LOCATION:
UID:e.1327.6853
SEQUENCE:3
DTSTAMP:20260423T050402Z
URL:https://business.kerrvillechamber.biz/events/details/hcyp-meeting-and-social-11-04-2015-6853
END:VEVENT

END:VCALENDAR
