BEGIN:VCALENDAR
VERSION:2.0
PRODID:-//ChamberMaster//Event Calendar 2.0//EN
METHOD:PUBLISH
X-PUBLISHED-TTL:P3D
REFRESH-INTERVAL:P3D
CALSCALE:GREGORIAN
BEGIN:VEVENT
DTSTART:20130917T150000Z
DTEND:20130917T180000Z
X-MICROSOFT-CDO-ALLDAYEVENT:FALSE
SUMMARY:Healing Hearts Annual Style Show & Auction
DESCRIPTION:On Tuesday\, September 17\, 2013\, the Hill Country Youth Ranch Auxiliary presents its annual Style Show & Silent/Live Auction at Inn of the Hills Convention Center.  The Silent Auction begins at 10:00 a.m. and lunch will be served at 11:30 a.m.  Clothes are modeled by our members and are chosen from donations made to the HCYR Thrift Shop and sold at amazing prices during the show.\n\n\n\nThis is our fundraiser of the year and all proceeds from the auctions and sales are designated to providing continuing and on-going educational assistance to current and former residents of the Hill Country Youth Ranch.\n\nYour support of our children would be greatly appreciated.  Many have overcome unimaginable abuses and are moving forward in their lives to become independent and productive citizens by continuing their education that is made possible for them by your generosity.\n\n\n\nWe are seeking donations of services or goods for our auctions.  Please contact me before Monday\, September 9\, 2013.\n\n\n\nThank you very much for your consideration and we hope you can join us for this special event.  Tickets are $25.00 per person or $300 for a table. Please make you check payable to Hill Country Youth Ranch Auxiliary and send to my attention at Hill Country Youth Ranch\, c/o Lana Seibert\, Director of Development\, P.O. Box 67\, Ingram\, Texas 78025. \n\n\n\nTickets are selling fast so please contact Lana Seibert @ 830-377-6115 to purchase yours.
X-ALT-DESC;FMTTYPE=text/html:On Tuesday\, September 17\, 2013\, the Hill Country Youth Ranch Auxiliary presents its annual Style Show &amp\; Silent/Live Auction at Inn of the Hills Convention Center.&nbsp\; The Silent Auction begins at 10:00 a.m. and lunch will be served at 11:30 a.m.&nbsp\; Clothes are modeled by our members and are chosen from donations made to the HCYR Thrift Shop and sold at amazing prices during the show.<br />\n<br />\nThis is our fundraiser of the year and all proceeds from the auctions and sales are designated to providing continuing and on-going educational assistance to current and former residents of the Hill Country Youth Ranch.<br />\nYour support of our children would be greatly appreciated.&nbsp\; Many have overcome unimaginable abuses and are moving forward in their lives to become independent and productive citizens by continuing their education that is made possible for them by your generosity.<br />\n<br />\nWe are seeking donations of services or goods for our auctions.&nbsp\; Please contact me before Monday\, September 9\, 2013.<br />\n<br />\nThank you very much for your consideration and we hope you can join us for this special event.&nbsp\; Tickets are $25.00 per person or $300 for a table. Please make you check payable to Hill Country Youth Ranch Auxiliary and send to my attention at Hill Country Youth Ranch\, c/o Lana Seibert\, Director of Development\, P.O. Box 67\, Ingram\, Texas 78025.&nbsp\;<br />\n<br />\nTickets are selling fast so please contact Lana Seibert @ 830-377-6115 to purchase yours.
LOCATION:Inn of the Hills Convention Center
UID:e.1327.1051
SEQUENCE:3
DTSTAMP:20260419T164415Z
URL:https://business.kerrvillechamber.biz/events/details/healing-hearts-annual-style-show-auction-09-17-2013-1051
END:VEVENT

END:VCALENDAR
