BEGIN:VCALENDAR
VERSION:2.0
PRODID:-//ChamberMaster//Event Calendar 2.0//EN
METHOD:PUBLISH
X-PUBLISHED-TTL:P3D
REFRESH-INTERVAL:P3D
CALSCALE:GREGORIAN
BEGIN:VEVENT
DTSTART:20130124T140000Z
DTEND:20130124T160000Z
X-MICROSOFT-CDO-ALLDAYEVENT:FALSE
SUMMARY:Health Care Reform for your Small Business
DESCRIPTION:The Good\, the Bad\, and the Ugly:  Healthcare Reform for your Small Business\, Speaker Cyndi Mergele\, SPHR\, PI\, Senior Manager for Human Resources Consulting
X-ALT-DESC;FMTTYPE=text/html:The Good\, the Bad\, and the Ugly:&nbsp\; Healthcare Reform for your Small Business\, Speaker Cyndi Mergele\, SPHR\, PI\, Senior Manager for Human Resources Consulting
LOCATION:Gather\, 625 Water Street
UID:e.1327.512
SEQUENCE:3
DTSTAMP:20260420T040611Z
URL:https://business.kerrvillechamber.biz/events/details/health-care-reform-for-your-small-business-01-24-2013-512
END:VEVENT

END:VCALENDAR
