BEGIN:VCALENDAR
VERSION:2.0
PRODID:-//ChamberMaster//Event Calendar 2.0//EN
METHOD:PUBLISH
X-PUBLISHED-TTL:P3D
REFRESH-INTERVAL:P3D
CALSCALE:GREGORIAN
BEGIN:VEVENT
DTSTART:20130721T190000Z
DTEND:20130721T213000Z
X-MICROSOFT-CDO-ALLDAYEVENT:FALSE
SUMMARY:Health for you Feet
DESCRIPTION:Workshop with Nydia Darby on health for your feet. Two sections\, first will be a relaxed question and answer event where people will learn about the most common challenges affecting the feet and lower legs. Nydia will share activities to improve overall strength and mobility to improve function for a lifetime. Participants will receive a  booklet with all activities learned to encourage continued practice . The second half will be a yoga practice where participants will utilize the principals learned for creating a solid foot foundation.  Each section can be attended separately. Reservations are required and can be made by contacting The Yoga Space at yoga@ktc.com or 830-805-8633.
X-ALT-DESC;FMTTYPE=text/html:Workshop with Nydia Darby on health for your feet. Two sections\, first will be a relaxed question and answer event where people will learn about the most common challenges affecting the feet and lower legs. Nydia will share activities to improve overall strength and mobility to improve function for a lifetime. Participants will receive a&nbsp\; booklet with all activities learned to encourage continued practice . The second half will be a yoga practice where participants will utilize the principals learned for creating a solid foot foundation.&nbsp\; Each section can be attended separately. Reservations are required and can be made by contacting The Yoga Space at yoga@ktc.com or 830-805-8633. 
LOCATION:The Yoga Space 804 Main Street
UID:e.1327.999
SEQUENCE:3
DTSTAMP:20260419T182053Z
URL:https://business.kerrvillechamber.biz/events/details/health-for-you-feet-07-21-2013-999
END:VEVENT

END:VCALENDAR
