BEGIN:VCALENDAR
VERSION:2.0
PRODID:-//ChamberMaster//Event Calendar 2.0//EN
METHOD:PUBLISH
X-PUBLISHED-TTL:P3D
REFRESH-INTERVAL:P3D
CALSCALE:GREGORIAN
BEGIN:VEVENT
DTSTART:20131115T000000Z
DTEND:20131115T013000Z
X-MICROSOFT-CDO-ALLDAYEVENT:FALSE
SUMMARY:Herbs at Twilight presents 'Herbal Treasures for the Holidays'
DESCRIPTION:Certified herbalists Amy Coward\, R.N.\, and Sally Garrett\, M.S.\, continue with their popular series\, this month with "Herbal Treasures for the Holidays." Tuition includes workshop materials\, handouts\, samples.
X-ALT-DESC;FMTTYPE=text/html:Certified herbalists Amy Coward\, R.N.\, and Sally Garrett\, M.S.\, continue with their popular series\, this month with &quot\;Herbal Treasures for the Holidays.&quot\; Tuition includes workshop materials\, handouts\, samples.
LOCATION:RIVERSIDE NATURE CENTER\, 150 Francisco Lemos St.\, Kerrville
UID:e.1327.1572
SEQUENCE:3
DTSTAMP:20260419T121750Z
URL:https://business.kerrvillechamber.biz/events/details/herbs-at-twilight-presents-herbal-treasures-for-the-holidays-11-14-2013-1572
END:VEVENT

END:VCALENDAR
