BEGIN:VCALENDAR
VERSION:2.0
PRODID:-//ChamberMaster//Event Calendar 2.0//EN
METHOD:PUBLISH
X-PUBLISHED-TTL:P3D
REFRESH-INTERVAL:P3D
CALSCALE:GREGORIAN
BEGIN:VEVENT
DTSTART:20130926T230000Z
DTEND:20130927T010000Z
X-MICROSOFT-CDO-ALLDAYEVENT:FALSE
SUMMARY:Herbs at Twilight\, the Fall Herb Garden
DESCRIPTION:This month's subject is the fall herb garden. Learn all about planting and tending a successful patch of herbs\, and which herbs work best in this climate and for the season. The workshop is led by the certified herbalists who also are in charge of Riverside Nature Center's popular medicinal garden\, the Native Healing Garden\, and they  also tgeach a course in basic herbalism that leads to certification.  Reservations are highly recommended. Meet in the Visitors Center at the nature center.
X-ALT-DESC;FMTTYPE=text/html:This month&#39\;s subject is the fall herb garden. Learn all about planting and tending a successful patch of herbs\, and which herbs work best in this climate and for the season. The workshop is led by the certified herbalists who also are in charge of Riverside Nature Center&#39\;s popular medicinal garden\, the Native Healing Garden\, and they &nbsp\;also tgeach a course in basic herbalism that leads to certification. &nbsp\;Reservations are highly recommended. Meet in the Visitors Center at the nature center.
LOCATION:Riverside Nature Center\, 150 Francisco Lemos St.\, Kerrville
UID:e.1327.1090
SEQUENCE:3
DTSTAMP:20260419T151135Z
URL:https://business.kerrvillechamber.biz/events/details/herbs-at-twilight-the-fall-herb-garden-09-26-2013-1090
END:VEVENT

END:VCALENDAR
