BEGIN:VCALENDAR
VERSION:2.0
PRODID:-//ChamberMaster//Event Calendar 2.0//EN
METHOD:PUBLISH
X-PUBLISHED-TTL:P3D
REFRESH-INTERVAL:P3D
CALSCALE:GREGORIAN
BEGIN:VEVENT
DTSTART:20150404T150000Z
DTEND:20150405T000000Z
X-MICROSOFT-CDO-ALLDAYEVENT:FALSE
SUMMARY:Here's to our Heroes Easter Fest & Cook-off
DESCRIPTION:Here's To Our Heroes Easter Fest and Cook-off.  Fun filled FREE community event.  BBQ and Chili Cook-off\, food\, games\, vendors\, live music\, washer pitching tournament\, Easter Egg hunt\, car show and more on the banks of the beautiful Guadalupe River.
X-ALT-DESC;FMTTYPE=text/html:Here&#39\;s To Our Heroes Easter Fest and Cook-off.&nbsp\; Fun filled FREE community event.&nbsp\; BBQ and Chili Cook-off\, food\, games\, vendors\, live music\, washer pitching tournament\, Easter Egg hunt\, car show and more on the banks of the beautiful Guadalupe River.&nbsp\;
LOCATION:Flat Rock Lake Park\, 3840 Riverside Dr.
UID:e.1327.4396
SEQUENCE:3
DTSTAMP:20260423T201212Z
URL:https://business.kerrvillechamber.biz/events/details/here-s-to-our-heroes-easter-fest-cook-off-04-04-2015-4396
END:VEVENT

END:VCALENDAR
