BEGIN:VCALENDAR
VERSION:2.0
PRODID:-//ChamberMaster//Event Calendar 2.0//EN
METHOD:PUBLISH
X-PUBLISHED-TTL:P3D
REFRESH-INTERVAL:P3D
CALSCALE:GREGORIAN
BEGIN:VEVENT
DTSTART:20130420T170000Z
DTEND:20130420T170000Z
X-MICROSOFT-CDO-ALLDAYEVENT:FALSE
SUMMARY:Hill Country Charity Ball
DESCRIPTION:The Hill Country Charity Ball Association presents Southern Sovee\n\n	Benefiting The Hill Country District Junior Livestock Show Association\n\n	\n\n	  The Hill Country District Junior Livestock Show Association is dedicated to promoting agriculture\, as well as providing monetary support and scholarships to 4-H and FFA members in 34 counties across Texas. The funds raised this year will help build a new 22\,000 square foot multi-use exhibit hall at the Hill Country Youth Exhibition Center. This new facility will host annual HCDJLSA events\, such as the Hill Country District \n\n	The Hill Country District Junior Livestock Show Association is dedicated to promoting agriculture\, as well as providing monetary support and scholarships to 4-H and FFA members in 34 counties across Texas. The funds raised this year will help build a new 22\,000 square foot multi-use exhibit hall at the Hill Country Youth Exhibition Center.
X-ALT-DESC;FMTTYPE=text/html:<p>\n	<span style="font-size: 12px\;"><span style="font-family: arial\;">The Hill Country Charity Ball Association presents Southern Sovee<br />\n	Benefiting The Hill Country District Junior Livestock Show Association</span></span></p>\n<p>\n	<br />\n	<span style="font-size: 12px\;"><span style="font-family: arial\;"><span>&#65279\;</span>&#65279\;The Hill Country District Junior Livestock Show Association is dedicated to promoting agriculture\, as well as providing monetary support and scholarships to 4-H and FFA members in 34 counties across Texas. The funds raised this year will help build a new 22\,000 square foot multi-use exhibit hall at the Hill Country Youth Exhibition Center. This new facility will host annual HCDJLSA events\, such as the Hill Country District </span></span></p>\n<p>\n	<span style="font-size: 12px\;"><span style="font-family: arial\;">The Hill Country District Junior Livestock Show Association is dedicated to promoting agriculture\, as well as providing monetary support and scholarships to 4-H and FFA members in 34 counties across Texas. The funds raised this year will help build a new 22\,000 square foot multi-use exhibit hall at the Hill Country Youth Exhibition Center. </span><br />\n	&nbsp\;</span></p>\n
LOCATION:Inn of the Hills Resort & Conference Center
UID:e.1327.624
SEQUENCE:3
DTSTAMP:20260419T231614Z
URL:https://business.kerrvillechamber.biz/events/details/hill-country-charity-ball-04-20-2013-624
END:VEVENT

END:VCALENDAR
