BEGIN:VCALENDAR
VERSION:2.0
PRODID:-//ChamberMaster//Event Calendar 2.0//EN
METHOD:PUBLISH
X-PUBLISHED-TTL:P3D
REFRESH-INTERVAL:P3D
CALSCALE:GREGORIAN
BEGIN:VEVENT
DTSTART:20260307T220000Z
DTEND:20260307T230000Z
X-MICROSOFT-CDO-ALLDAYEVENT:FALSE
SUMMARY:Hill Country Chorale "Classical Music Festival"
DESCRIPTION:The Hill Country Chorale presents it's gift to the community with the Classical Music Festival\, featuring opera choruses and soloists from our area.  Composers include Verdi\, Bizet\, Offenbach\, Mozart\, and Puccini.
X-ALT-DESC;FMTTYPE=text/html:The Hill Country Chorale presents it&#39\;s gift to the community with the Classical Music Festival\, featuring opera choruses and soloists from our area.&nbsp\; Composers include Verdi\, Bizet\, Offenbach\, Mozart\, and Puccini.<br />\n&nbsp\;
LOCATION:First Presbyterian Church of Kerrville\, 800 Jefferson St.
UID:e.1327.29264
SEQUENCE:3
DTSTAMP:20260423T093250Z
URL:https://business.kerrvillechamber.biz/events/details/hill-country-chorale-classical-music-festival-29264
END:VEVENT

END:VCALENDAR
