BEGIN:VCALENDAR
VERSION:2.0
PRODID:-//ChamberMaster//Event Calendar 2.0//EN
METHOD:PUBLISH
X-PUBLISHED-TTL:P3D
REFRESH-INTERVAL:P3D
CALSCALE:GREGORIAN
BEGIN:VEVENT
DTSTART:20130524T140000Z
DTEND:20130524T220000Z
X-MICROSOFT-CDO-ALLDAYEVENT:FALSE
SUMMARY:Hill Country Quilt Guild 2013 Show
DESCRIPTION:Over 200 judged quilts on display\;   Wearable and fiber arts\;  Boutique with handmade items\;  Fabric and notion vendors\;  'Scissor Sharpening Guy'
X-ALT-DESC;FMTTYPE=text/html:Over 200 judged quilts on display\; &nbsp\; Wearable and fiber arts\; &nbsp\;Boutique with handmade items\; &nbsp\;Fabric and notion vendors\; &nbsp\;&#39\;Scissor Sharpening Guy&#39\;
LOCATION:Edington Gymnasium - Schreiner University\, 2100 Memorial Boulevard\, Kerrville\, Tx 78028
UID:e.1327.348
SEQUENCE:3
DTSTAMP:20260419T213506Z
URL:https://business.kerrvillechamber.biz/events/details/hill-country-quilt-guild-2013-show-05-24-2013-348
END:VEVENT

END:VCALENDAR
