BEGIN:VCALENDAR
VERSION:2.0
PRODID:-//ChamberMaster//Event Calendar 2.0//EN
METHOD:PUBLISH
X-PUBLISHED-TTL:P3D
REFRESH-INTERVAL:P3D
CALSCALE:GREGORIAN
BEGIN:VEVENT
DTSTART:20130907T130000Z
DTEND:20130907T210000Z
X-MICROSOFT-CDO-ALLDAYEVENT:FALSE
SUMMARY:Hill Country Swap Meet
DESCRIPTION:Buy\, sell or trade event open to the public.  Come out and shop\, never know  \n\n			what you might find here.  For additional information please call 830-370-3614  \n\n			or 830-459-6198 \n	\n	\n		\n			Kerr County Hill Country Youth Event Center\, 3805 Hwy 27
X-ALT-DESC;FMTTYPE=text/html:<div style="color: gray">\n	<div class="OutlineElement Ltr SCX76212766" style="text-indent: 0px\; margin-left: 0px">\n		<p class="Paragraph SCX76212766" paraeid="{85ec09d4-1699-45c4-9c8d-e0ecafd94b57}{213}" paraid="478979562" style="text-align: left\; background-color: transparent\; font-style: normal\; text-indent: 0px\; font-family: 'Segoe UI'\, Tahoma\, Verdana\, 'Sans-Serif'\; color: windowtext\; font-size: 6pt\; vertical-align: baseline\; font-weight: normal">\n			<span class="TextRun SCX76212766" style="line-height: 19px\; font-style: italic\; font-family: Cambria\, Serif\; font-size: 12pt" xml:lang="EN-US"><span class="NormalTextRun SCX76212766" style="background-color: inherit">Buy\, sell or trade event open to the public.&nbsp\; Come out and shop\, never know </span></span><span class="LineBreakBlob BlobObject SCX76212766" style="line-height: 19px\; font-family: Cambria\, Serif\; font-size: 12pt"><span class="SCX76212766">&nbsp\;</span></span><br class="SCX76212766" />\n			<span class="TextRun SCX76212766" style="line-height: 19px\; font-style: italic\; font-family: Cambria\, Serif\; font-size: 12pt" xml:lang="EN-US"><span class="NormalTextRun SCX76212766" style="background-color: inherit">what you might find here.&nbsp\; For additional information please call 830-370-3614 </span></span><span class="LineBreakBlob BlobObject SCX76212766" style="line-height: 19px\; font-family: Cambria\, Serif\; font-size: 12pt"><span class="SCX76212766">&nbsp\;</span></span><br class="SCX76212766" />\n			<span class="TextRun SCX76212766" style="line-height: 19px\; font-style: italic\; font-family: Cambria\, Serif\; font-size: 12pt" xml:lang="EN-US"><span class="NormalTextRun SCX76212766" style="background-color: inherit">or 830-459-6198</span></span><span class="EOP SCX76212766" style="line-height: 19px\; font-family: Cambria\, Serif\; font-size: 12pt">&nbsp\;</span></p>\n	</div>\n	<div class="OutlineElement Ltr SCX76212766" style="text-indent: 0px\; margin-left: 0px">\n		<p class="Paragraph SCX76212766" paraeid="{85ec09d4-1699-45c4-9c8d-e0ecafd94b57}{216}" paraid="919223946" style="text-align: left\; background-color: transparent\; font-style: normal\; text-indent: 0px\; font-family: 'Segoe UI'\, Tahoma\, Verdana\, 'Sans-Serif'\; color: windowtext\; font-size: 6pt\; vertical-align: baseline\; font-weight: normal">\n			<span class="TextRun SCX76212766" style="line-height: 19px\; font-style: italic\; font-family: Cambria\, Serif\; font-size: 12pt" xml:lang="EN-US"><span class="NormalTextRun SCX76212766" style="background-color: inherit">Kerr County Hill Country Youth Event Center\, 3805 Hwy 27</span></span><span class="EOP SCX76212766" style="line-height: 19px\; font-family: Cambria\, Serif\; font-size: 12pt">&nbsp\;</span></p>\n	</div>\n	<div class="OutlineElement Ltr SCX76212766" style="text-indent: 0px\; margin-left: 0px">\n		<p class="Paragraph SCX76212766" paraeid="{85ec09d4-1699-45c4-9c8d-e0ecafd94b57}{218}" paraid="1421195954" style="text-align: left\; background-color: transparent\; font-style: normal\; text-indent: 0px\; font-family: 'Segoe UI'\, Tahoma\, Verdana\, 'Sans-Serif'\; color: windowtext\; font-size: 6pt\; vertical-align: baseline\; font-weight: normal">\n			<span class="EOP SCX76212766" style="line-height: 20px\; font-family: Calibri\, Sans-Serif\; font-size: 11pt">&nbsp\;</span></p>\n	</div>\n</div>\n
LOCATION:
UID:e.1327.1018
SEQUENCE:3
DTSTAMP:20260419T151512Z
URL:https://business.kerrvillechamber.biz/events/details/hill-country-swap-meet-09-07-2013-1018
END:VEVENT

END:VCALENDAR
