BEGIN:VCALENDAR
VERSION:2.0
PRODID:-//ChamberMaster//Event Calendar 2.0//EN
METHOD:PUBLISH
X-PUBLISHED-TTL:P3D
REFRESH-INTERVAL:P3D
CALSCALE:GREGORIAN
BEGIN:VEVENT
DTSTART:20150409T223000Z
DTEND:20150410T000000Z
X-MICROSOFT-CDO-ALLDAYEVENT:FALSE
SUMMARY:Hill Country Young Professionals Meeting and Social
DESCRIPTION:Come mix\, mingle and learn about the exciting opportunities HCYP has to offer! Bring a friend\, potential members welcomed! Drinks will be available for ordering. Bring your own food if you like! Outside food is welcomed (light snacks are provided on sight: popcorn and peanuts) Thursday\, April 9\, 5:30 p.m. - 7:00 p.m. RV Bar (located inside of the Guadalupe RV Resort) Directions: This is headed towards Ingram. If you are driving from Fredericksburg\, turn Right onto Main Street and stay on that road the entire way (which will become Junction Hwy/Hwy 27). It is about 2.5 miles past Wal-Mart. The entrance to the Guadalupe RV Park will be along a white fence on your left (look for the Kerrville city sign and a large billboard\, that is where you turn). The bar is located at the very back of the RV Resort.
X-ALT-DESC;FMTTYPE=text/html:Come mix\, mingle and learn about the exciting opportunities HCYP has to offer! Bring a friend\, potential members welcomed! Drinks will be available for ordering. Bring your own food if you like! Outside food is welcomed (light snacks are provided on sight: popcorn and peanuts) Thursday\, April 9\, 5:30 p.m. - 7:00 p.m. RV Bar (located inside of the Guadalupe RV Resort) Directions: This is headed towards Ingram. If you are driving from Fredericksburg\, turn Right onto Main Street and stay on that road the entire way (which will become Junction Hwy/Hwy 27). It is about 2.5 miles past Wal-Mart. The entrance to the Guadalupe RV Park will be along a white fence on your left (look for the Kerrville city sign and a large billboard\, that is where you turn). The bar is located at the very back of the RV Resort.
LOCATION:DT's River Rock Saloon RV Bar inside of the Guadalupe RV Resort\, 2605 Junction Hwy (Rotates Monthly)
UID:e.1327.4454
SEQUENCE:3
DTSTAMP:20260423T201529Z
URL:https://business.kerrvillechamber.biz/events/details/hill-country-young-professionals-meeting-and-social-04-09-2015-4454
END:VEVENT

END:VCALENDAR
