BEGIN:VCALENDAR
VERSION:2.0
PRODID:-//ChamberMaster//Event Calendar 2.0//EN
METHOD:PUBLISH
X-PUBLISHED-TTL:P3D
REFRESH-INTERVAL:P3D
CALSCALE:GREGORIAN
BEGIN:VEVENT
DTSTART:20130419T161500Z
DTEND:20130419T200000Z
X-MICROSOFT-CDO-ALLDAYEVENT:FALSE
SUMMARY:Hill Country Youth Ranch & Big Springs Ranch for Children Annual Picnic
DESCRIPTION:Please join us for the\n\n	18th Annual Dedication Picnic\n\n	on\n\n	Friday\, April 19\, 2013 at 11:15 a.m.\n\n	at\n\n	Ed Brune Sports Center\n\n	Big Springs Ranch for Children\n\n	Leakey\, TX\n\n	\n\n	Come celebrate with us\n\n	as we dedicate\n\n	Das Brune Haus IV\n\n	built with funds given by\n\n	Ed and Trudy Brune\n\n	\n\n	Van tours of the village\n\n	will be available following lunch\n\n	\n\n	RSVP by April 16\n\n	(830)367-2131or\n\n	email to response@youth-ranch.org
X-ALT-DESC;FMTTYPE=text/html:<div style="text-align: center\;">\n	Please join us for the<br />\n	18th Annual Dedication Picnic<br />\n	on<br />\n	Friday\, April 19\, 2013 at 11:15 a.m.<br />\n	at<br />\n	Ed Brune Sports Center<br />\n	Big Springs Ranch for Children<br />\n	Leakey\, TX<br />\n	<br />\n	Come celebrate with us<br />\n	as we dedicate<br />\n	Das Brune Haus IV<br />\n	built with funds given by<br />\n	Ed and Trudy Brune<br />\n	<br />\n	Van tours of the village<br />\n	will be available following lunch<br />\n	<br />\n	RSVP by April 16<br />\n	(830)367-2131or<br />\n	email to <a href="mailto:response@youth-ranch.org">response@youth-ranch.org</a></div>\n
LOCATION:Big Springs Ranch for Children - Leakey\, Texas
UID:e.1327.712
SEQUENCE:3
DTSTAMP:20260419T225702Z
URL:https://business.kerrvillechamber.biz/events/details/hill-country-youth-ranch-big-springs-ranch-for-children-annual-picnic-04-19-2013-712
END:VEVENT

END:VCALENDAR
