BEGIN:VCALENDAR
VERSION:2.0
PRODID:-//ChamberMaster//Event Calendar 2.0//EN
METHOD:PUBLISH
X-PUBLISHED-TTL:P3D
REFRESH-INTERVAL:P3D
CALSCALE:GREGORIAN
BEGIN:VEVENT
DTSTART:20250912T170000Z
DTEND:20250912T173000Z
X-MICROSOFT-CDO-ALLDAYEVENT:FALSE
SUMMARY:Hillspire Academy of Dance
DESCRIPTION:KACOC Ribbon Cutting - Hillspire Academy of Dance
X-ALT-DESC;FMTTYPE=text/html:KACOC Ribbon Cutting - Hillspire Academy of Dance&nbsp\;
LOCATION:1523 Water St\, Kerrville\, Texas 78028
UID:e.1327.29216
SEQUENCE:3
DTSTAMP:20260423T183846Z
URL:https://business.kerrvillechamber.biz/events/details/hillspire-academy-of-dance-29216
END:VEVENT

END:VCALENDAR
