BEGIN:VCALENDAR
VERSION:2.0
PRODID:-//ChamberMaster//Event Calendar 2.0//EN
METHOD:PUBLISH
X-PUBLISHED-TTL:P3D
REFRESH-INTERVAL:P3D
CALSCALE:GREGORIAN
BEGIN:VEVENT
DTSTART:20251115T170000Z
DTEND:20251115T220000Z
X-MICROSOFT-CDO-ALLDAYEVENT:FALSE
SUMMARY:Holiday on the Hill Market
DESCRIPTION:Elegant & Inviting:\n\nCelebrate the season at Holiday on the Hill Market  \n\nNovember 15 | 11 AM 4 PM | 2100 E. Main St.\n\nDiscover unique gifts and treasures from 20+ talented vendors.
X-ALT-DESC;FMTTYPE=text/html:<strong>Elegant &amp\; Inviting:</strong><br />\nCelebrate the season at <strong>Holiday on the Hill Market</strong> &mdash\;<br />\n<strong>November 15 | 11 AM&ndash\;4 PM | 2100 E. Main St.</strong><br />\nDiscover unique gifts and treasures from <strong>20+ talented vendors.</strong>
LOCATION:Kerrville Hills Winery 2100 E. Main Street in Kerrville
UID:e.1327.29241
SEQUENCE:3
DTSTAMP:20260423T164823Z
URL:https://business.kerrvillechamber.biz/events/details/holiday-on-the-hill-market-29241
END:VEVENT

END:VCALENDAR
