BEGIN:VCALENDAR
VERSION:2.0
PRODID:-//ChamberMaster//Event Calendar 2.0//EN
METHOD:PUBLISH
X-PUBLISHED-TTL:P3D
REFRESH-INTERVAL:P3D
CALSCALE:GREGORIAN
BEGIN:VEVENT
DTSTART;VALUE=DATE:20130413
DTEND;VALUE=DATE:20130414
TRANSP:TRANSPARENT
X-MICROSOFT-CDO-ALLDAYEVENT:TRUE
SUMMARY:Hometown Hero Ribbon Cutting
DESCRIPTION:New Location Ribbon Cutting\n\nSaturday\, April 13th at 10 am\n\n\n\nLive Music to follow at 1pm!\n\nFree to attend
X-ALT-DESC;FMTTYPE=text/html:New Location Ribbon Cutting<br />\nSaturday\, April 13th at 10 am<br />\n<br />\nLive Music to follow at 1pm!<br />\nFree to attend<br />\n
LOCATION:200 Sidney Baker Suite #34
UID:e.1327.683
SEQUENCE:3
DTSTAMP:20260419T224913Z
URL:https://business.kerrvillechamber.biz/events/details/hometown-hero-ribbon-cutting-04-13-2013-683
END:VEVENT

END:VCALENDAR
