BEGIN:VCALENDAR
VERSION:2.0
PRODID:-//ChamberMaster//Event Calendar 2.0//EN
METHOD:PUBLISH
X-PUBLISHED-TTL:P3D
REFRESH-INTERVAL:P3D
CALSCALE:GREGORIAN
BEGIN:VEVENT
DTSTART:20250814T233000Z
DTEND:20250815T023000Z
X-MICROSOFT-CDO-ALLDAYEVENT:FALSE
SUMMARY:Iconic Film Series: Miss Congeniality
DESCRIPTION:Graciously sponsored by Art2Heart\n\nDoors and bar   6:30pm\n\nMovie   7:00pm\n\nJoin us in the theatre for the ninth in our 2025 Iconic Film Series\, celebrating Cinema Classics and Family Fun. As well as a screening of Miss Congeniality\, the action comedy movie starring Sandra Bullock\, expect specialty drinks\, bringing the movie to life.\n\nThis event is open General Admission\, and all tickets are complimentary due to our incredible sponsor\, Art2Heart\n\nPlease reserve your spot so we can best prepare our bar and snacks!
X-ALT-DESC;FMTTYPE=text/html:<p>&nbsp\;</p>\n\n<div>\n<p style="margin-left:0px\; margin-right:0px\; text-align:center"><strong>Graciously sponsored by Art2Heart</strong></p>\n\n<p style="margin-left:0px\; margin-right:0px\; text-align:center"><strong>Doors and bar&nbsp\;&mdash\; 6:30pm</strong></p>\n\n<p style="margin-left:0px\; margin-right:0px\; text-align:center"><strong>Movie&nbsp\;&mdash\; 7:00pm</strong></p>\n\n<p style="margin-left:0px\; margin-right:0px\; text-align:center">Join us in the theatre&nbsp\;for the ninth in our 2025&nbsp\;<strong>Iconic Film Series</strong>\, celebrating&nbsp\;<em>Cinema Classics and Family Fun</em>. As well as a screening of&nbsp\;<em>Miss Congeniality</em>\, the action comedy movie starring Sandra Bullock\, expect specialty drinks\, bringing the movie to life.</p>\n\n<p style="margin-left:0px\; margin-right:0px\; text-align:center">This event is&nbsp\;open General Admission\, and all tickets are complimentary due to our incredible sponsor\, Art2Heart</p>\n\n<p style="margin-left:0px\; margin-right:0px\; text-align:center">Please reserve your spot so we can best prepare our bar and snacks!</p>\n\n<p style="margin-left:0px\; margin-right:0px\; text-align:center">&nbsp\;</p>\n</div>\n
LOCATION:717 Water Street Kerrville TX 78028
UID:e.1327.29190
SEQUENCE:3
DTSTAMP:20260423T195335Z
URL:https://business.kerrvillechamber.biz/events/details/iconic-film-series-miss-congeniality-29190
END:VEVENT

END:VCALENDAR
