BEGIN:VCALENDAR
VERSION:2.0
PRODID:-//ChamberMaster//Event Calendar 2.0//EN
METHOD:PUBLISH
X-PUBLISHED-TTL:P3D
REFRESH-INTERVAL:P3D
CALSCALE:GREGORIAN
BEGIN:VEVENT
DTSTART:20130224T020000Z
DTEND:20130224T050000Z
X-MICROSOFT-CDO-ALLDAYEVENT:FALSE
SUMMARY:In Concert- Robert Earl Keen
DESCRIPTION:Tickets- $15\, $25\, $50\, $100\, & $250 ($100 & $250 tickets include meet & greet reception with Robert Earl Keen\, 6:00 pm Cailloux Theatre Lobby\, Photos with Robert Earl Keen\, Live Auction of Signed Guitar\, Silent Auction & Refreshments)\n\n\n\nLimited number of special $250 Exclusive Box Seats are available only by calling Box Office 830-896-9393\n\n\n\n**** All proceeds from Robert Earl Keen's Concert benefit the HCYO Scholarship Fund****
X-ALT-DESC;FMTTYPE=text/html:Tickets- $15\, $25\, $50\, $100\, &amp\; $250 ($100 &amp\; $250 tickets include meet &amp\; greet reception with Robert Earl Keen\, 6:00 pm Cailloux Theatre Lobby\, Photos with Robert Earl Keen\, Live Auction of Signed Guitar\, Silent Auction &amp\; Refreshments)<br />\n<br />\nLimited number of special $250 Exclusive Box Seats are available only by calling Box Office 830-896-9393<br />\n<br />\n**** All proceeds from Robert Earl Keen&#39\;s Concert benefit the HCYO Scholarship Fund****
LOCATION:Callioux Theater\, 910 Main Street
UID:e.1327.561
SEQUENCE:3
DTSTAMP:20260420T021434Z
URL:https://business.kerrvillechamber.biz/events/details/in-concert-robert-earl-keen-02-23-2013-561
END:VEVENT

END:VCALENDAR
