BEGIN:VCALENDAR
VERSION:2.0
PRODID:-//ChamberMaster//Event Calendar 2.0//EN
METHOD:PUBLISH
X-PUBLISHED-TTL:P3D
REFRESH-INTERVAL:P3D
CALSCALE:GREGORIAN
BEGIN:VEVENT
DTSTART:20130208T160000Z
DTEND:20130209T000000Z
X-MICROSOFT-CDO-ALLDAYEVENT:FALSE
SUMMARY:Iris Setlakwe Trunk Show at Schreiner Goods!
DESCRIPTION:Stop by Schreiner goods\n				\n					\n				\n				From 10am-6pm next Thursday\, February 7th & Friday\, February 8th\n\n				We are so excited to host our second Iris SetlakweTrunk Show!  A rep will be in-store both days with the full Iris Setlakwe Spring 2013 line for personal fittings and stylings.  \n\n				We will have cocktails and snacks available\, so come ready for a fabulous and fashionable party!\n\n				Visit http://www.collectioniris.com/#/fr for a sneak peek at the line.\n\n				Please call Schreiner Goods for more information and appointments (optional but recommended).\n\n				 \n\n				And don't forget...\n\n				Buy One Get One FREE sale denim and trousers\,\n\n				AT LEAST 50% OFF sale pieces by these designers:\n\n				AG Denim\n\n				Bod & Christensen\n\n				Charlotte Taylor\n\n				CrOp by David Peck\n\n				Ecru\n\n				Fluxus\n\n				Gold Hawk\n\n				Habitual\n\n				Iris\n\n				L.A.M.B.\n\n				Pendleton\n\n				Rachel Zoe\n\n				Repeat/Repeat Cashmere\n\n				Ulla Johnson\n\n				...And More.\n\n				Shop the final days of our Semi-Annual Sale at Schreiner Goods and save big on your favorite styles!
X-ALT-DESC;FMTTYPE=text/html:<table align="center" border="0" cellpadding="0" cellspacing="0" style="width: 620px\; background: white" width="620">\n	<tbody>\n		<tr>\n			<td style="border-bottom-color: #f0f0f0\; padding-bottom: 0in\; border-top-color: #f0f0f0\; padding-left: 60pt\; padding-right: 60pt\; border-right-color: #f0f0f0\; border-left-color: #f0f0f0\; padding-top: 0in">\n				<h1 style="margin: 17.25pt 0in 3.75pt">\n					<span style="font-size: large">Stop by Schreiner goods</span></h1>\n				<div align="center" style="text-align: center\; margin: 3pt 0in 0pt">\n					<hr align="center" noshade="noshade" size="1" style="color: #de9b26" width="100%" />\n				</div>\n				<span style="font-family: arial\,sans-serif"><strong><span style="color: #666666">From 10am-6pm next Thursday\, February 7th &amp\; Friday\, February 8th</span></strong></span><br />\n				<span style="color: #666666">We are so excited to host our second <em><strong><span style="font-family: arial\,sans-serif">Iris </span></strong></em></span><span style="color: #666666"><em><strong><span style="font-family: arial\,sans-serif">Setlakwe</span></strong></em></span><strong><span style="font-family: arial\,sans-serif">Trunk</span></strong><strong><span style="font-family: arial\,sans-serif"> Show</span></strong>! &nbsp\;A rep will be in-store both days with the full <em><span style="font-family: arial\,sans-serif">Iris Setlakwe Spring 2013</span></em> line for personal fittings and stylings. &nbsp\;<br />\n				We will have cocktails and snacks available\, so come ready for a fabulous and fashionable party!<br />\n				<span style="color: #666666">Visit&nbsp\;</span><em><span style="font-family: arial\,sans-serif"><a href="http://email.zocalodesign.com/t/y-l-jhdhkld-wykqkihk-t/" style="color: "><span style="color: #0000ff">http://www.collectioniris.com/#/fr</span></a></span></em><span style="color: #666666">&nbsp\;for a sneak peek at the line.<br />\n				Please call <em><span style="font-family: arial\,sans-serif">Schreiner Goods</span></em></span> for more information and appointments (optional but recommended).<br />\n				&nbsp\;<br />\n				<strong><span style="font-family: arial\,sans-serif"><span style="color: #666666">And don&#39\;t forget...</span></span></strong><br />\n				<span style="color: #666666"><strong><span style="font-family: arial\,sans-serif">Buy One Get One FREE</span></strong></span>&nbsp\;sale denim and trousers\,<br />\n				<strong><span style="font-family: arial\,sans-serif">AT LEAST 50% OFF</span></strong>&nbsp\;sale pieces by these designers:<br />\n				<span style="color: #666666"><em><span style="font-family: arial\,sans-serif">AG Denim</span></em></span><br />\n				<em><span style="font-family: arial\,sans-serif">Bod &amp\; Christensen</span></em><br />\n				<em><span style="font-family: arial\,sans-serif">Charlotte Taylor</span></em><br />\n				<em><span style="font-family: arial\,sans-serif">CrOp by David Peck</span></em><br />\n				<em><span style="font-family: arial\,sans-serif">Ecru</span></em><br />\n				<em><span style="font-family: arial\,sans-serif">Fluxus</span></em><br />\n				<em><span style="font-family: arial\,sans-serif">Gold Hawk</span></em><br />\n				<em><span style="font-family: arial\,sans-serif">Habitual</span></em><br />\n				<em><span style="font-family: arial\,sans-serif">Iris</span></em><br />\n				<em><span style="font-family: arial\,sans-serif">L.A.M.B.</span></em><br />\n				<em><span style="font-family: arial\,sans-serif">Pendleton</span></em><br />\n				<em><span style="font-family: arial\,sans-serif">Rachel Zoe</span></em><br />\n				<em><span style="font-family: arial\,sans-serif">Repeat/Repeat Cashmere</span></em><br />\n				<em><span style="font-family: arial\,sans-serif">Ulla Johnson</span></em><br />\n				<span style="color: #666666">...And More.</span><br />\n				<span style="color: #666666">Shop the <strong><span style="font-family: arial\,sans-serif">final days of our Semi-Annual Sale</span></strong></span> at <em><span style="font-family: arial\,sans-serif">Schreiner Goods</span></em> and save big on your favorite styles!</td>\n		</tr>\n	</tbody>\n</table>\n
LOCATION:214 Earl Garrett St\, Kerrville\, TX 78028
UID:e.1327.596
SEQUENCE:3
DTSTAMP:20260420T021237Z
URL:https://business.kerrvillechamber.biz/events/details/iris-setlakwe-trunk-show-at-schreiner-goods-02-08-2013-596
END:VEVENT

END:VCALENDAR
