BEGIN:VCALENDAR
VERSION:2.0
PRODID:-//ChamberMaster//Event Calendar 2.0//EN
METHOD:PUBLISH
X-PUBLISHED-TTL:P3D
REFRESH-INTERVAL:P3D
CALSCALE:GREGORIAN
BEGIN:VEVENT
DTSTART;VALUE=DATE:20131108
DTEND;VALUE=DATE:20131111
TRANSP:TRANSPARENT
X-MICROSOFT-CDO-ALLDAYEVENT:TRUE
SUMMARY:James Avery Hill Country Golf Classic
DESCRIPTION:
X-ALT-DESC;FMTTYPE=text/html:
LOCATION:Schreiner Golf Course\, Riverhill Country Club\, and Comanche Trace
UID:e.1327.634
SEQUENCE:3
DTSTAMP:20260419T121612Z
URL:https://business.kerrvillechamber.biz/events/details/james-avery-hill-country-golf-classic-11-08-2013-634
END:VEVENT

END:VCALENDAR
