BEGIN:VCALENDAR
VERSION:2.0
PRODID:-//ChamberMaster//Event Calendar 2.0//EN
METHOD:PUBLISH
X-PUBLISHED-TTL:P3D
REFRESH-INTERVAL:P3D
CALSCALE:GREGORIAN
BEGIN:VEVENT
DTSTART:20250926T170000Z
DTEND:20250926T173000Z
X-MICROSOFT-CDO-ALLDAYEVENT:FALSE
SUMMARY:JP Properties
DESCRIPTION:KACOC Ribbon Cutting for JP Properties
X-ALT-DESC;FMTTYPE=text/html:KACOC Ribbon Cutting for JP Properties&nbsp\;
LOCATION:945 Barnett St\, Kerrville\, Texas 78028
UID:e.1327.29218
SEQUENCE:3
DTSTAMP:20260423T181636Z
URL:https://business.kerrvillechamber.biz/events/details/jp-properties-29218
END:VEVENT

END:VCALENDAR
