BEGIN:VCALENDAR
VERSION:2.0
PRODID:-//ChamberMaster//Event Calendar 2.0//EN
METHOD:PUBLISH
X-PUBLISHED-TTL:P3D
REFRESH-INTERVAL:P3D
CALSCALE:GREGORIAN
BEGIN:VEVENT
DTSTART:20130110T160000Z
DTEND:20130110T220000Z
X-MICROSOFT-CDO-ALLDAYEVENT:FALSE
SUMMARY:KACC Collectables Show and Sale
DESCRIPTION:gallery-condition collectables\, estate pieces\, antiques for sale. For additional information please call 830-895-2911\, or visit www.kacckerrville.com\n\n	Kerr Arts & Cultural Center\, 228 Earl Garrett\, 830-895-2911
X-ALT-DESC;FMTTYPE=text/html:<p>\n	gallery-condition collectables\, estate pieces\, antiques for sale. For additional information please call 830-895-2911\, or visit www.kacckerrville.com</p>\n<p>\n	Kerr Arts &amp\; Cultural Center\, 228 Earl Garrett\, 830-895-2911</p>\n
LOCATION:
UID:e.1327.456
SEQUENCE:3
DTSTAMP:20260420T054850Z
URL:https://business.kerrvillechamber.biz/events/details/kacc-collectables-show-and-sale-01-10-2013-456
END:VEVENT

END:VCALENDAR
